BEGIN:VCALENDAR
VERSION:2.0
METHOD:PUBLISH
X-WR-CALNAME:Магазин горящих тренингов |  Июнь 12 2009- Июль 12 2009
PRODID:-//strange bird labs//Drupal iCal API//EN
BEGIN:VEVENT
DTSTAMP;VALUE=DATE-TIME:20250219T055745Z
DTSTART;VALUE=DATE-TIME:20090612T060000Z
DTEND;VALUE=DATE-TIME:20090614T160000Z
UID:http://hotstudy.ru/v4/node/55
URL;VALUE=URI:http://hotstudy.ru/v4/node/55
SUMMARY:Занятие по тренингу «Семинар по восточным практикам «Гармония»»\, 12.06.2009\, 
DESCRIPTION:<p>Семинар будет проходить в буддийском ретритном центре Кунпенлинг\, в сосновом бору\, на берегу клязьмы <a href=\\"http\://www.kunphenling.ru/\\" title=\\"http\://www.kunphenling.ru/\\">http\://www.kunphenling.ru/</a></p>
 <p>Семинар проводится на выезде\, стоимость проживания 2600.</p>
 
END:VEVENT
BEGIN:VEVENT
DTSTAMP;VALUE=DATE-TIME:20250219T055745Z
DTSTART;VALUE=DATE-TIME:20090613T060000Z
DTEND;VALUE=DATE-TIME:20090614T160000Z
UID:http://hotstudy.ru/v4/node/37
URL;VALUE=URI:http://hotstudy.ru/v4/node/37
SUMMARY:Занятие по тренингу «Бакланка»\, 13.06.2009\, 
END:VEVENT
BEGIN:VEVENT
DTSTAMP;VALUE=DATE-TIME:20250219T055745Z
DTSTART;VALUE=DATE-TIME:20090624T060000Z
DTEND;VALUE=DATE-TIME:20090626T160000Z
UID:http://hotstudy.ru/v4/node/35
URL;VALUE=URI:http://hotstudy.ru/v4/node/35
SUMMARY:Занятие по тренингу «Трансформация»\, 24.06.2009\, Академия тренингов
END:VEVENT
BEGIN:VEVENT
DTSTAMP;VALUE=DATE-TIME:20250219T055745Z
DTSTART;VALUE=DATE-TIME:20090709T140000Z
DTEND;VALUE=DATE-TIME:20090712T160000Z
UID:http://hotstudy.ru/v4/node/52
URL;VALUE=URI:http://hotstudy.ru/v4/node/52
SUMMARY:Занятие по тренингу «Ораторское искусство»\, 09.07.2009\, 
END:VEVENT
END:VCALENDAR
