BEGIN:VCALENDAR
VERSION:2.0
METHOD:PUBLISH
X-WR-CALNAME:Магазин горящих тренингов |  Сентябрь 06 2009- Октябрь 06 2009
PRODID:-//strange bird labs//Drupal iCal API//EN
BEGIN:VEVENT
DTSTAMP;VALUE=DATE-TIME:20250302T010354Z
DTSTART;VALUE=DATE-TIME:20090909T150000Z
DTEND;VALUE=DATE-TIME:20090909T150000Z
UID:http://hotstudy.ru/v4/node/101
URL;VALUE=URI:http://hotstudy.ru/v4/node/101
SUMMARY:Занятие по тренингу «Sex в бизнесе как в жизни - экспериментальное исследование»\, 09.09.2009\, 
DESCRIPTION:<p>Время и место проведения\:<br />
 9-10 сентября\, 19.00-22.00 ч.<br />
 Москва\, Бизнес-центр на Летниковской. м. Павелецкая.</p>
 <p>Стоимость участия\:<br />
 До 31 августа – 4500 р.<br />
 До начала семинара – 5500 р.</p>
 
END:VEVENT
BEGIN:VEVENT
DTSTAMP;VALUE=DATE-TIME:20250302T010354Z
DTSTART;VALUE=DATE-TIME:20090912T070000Z
DTEND;VALUE=DATE-TIME:20090912T070000Z
UID:http://hotstudy.ru/v4/node/90
URL;VALUE=URI:http://hotstudy.ru/v4/node/90
SUMMARY:Занятие по тренингу «LifeDiving»\, 12.09.2009\, 
DESCRIPTION:<p>Предварительная запись</p>
 
END:VEVENT
BEGIN:VEVENT
DTSTAMP;VALUE=DATE-TIME:20250302T010354Z
DTSTART;VALUE=DATE-TIME:20090913T060000Z
DTEND;VALUE=DATE-TIME:20090913T060000Z
UID:http://hotstudy.ru/v4/node/97
URL;VALUE=URI:http://hotstudy.ru/v4/node/97
SUMMARY:Занятие по тренингу «Высокоэффективное Лидерство в Турбулентные Времена. »\, 13.09.2009\, 
DESCRIPTION:<p>Оставьте заявку здесь или используйте кодовое слово <strong>hotstudy</strong> на странице заказа билетов\: <a href=\\"http\://robin-sharma.ru/buy.html\\" title=\\"http\://robin-sharma.ru/buy.html\\">http\://robin-sharma.ru/buy.html</a></p>
 
END:VEVENT
BEGIN:VEVENT
DTSTAMP;VALUE=DATE-TIME:20250302T010354Z
DTSTART;VALUE=DATE-TIME:20090926T060000Z
DTEND;VALUE=DATE-TIME:20090926T060000Z
UID:http://hotstudy.ru/v4/node/108
URL;VALUE=URI:http://hotstudy.ru/v4/node/108
SUMMARY:Занятие по тренингу «Карьера\: как найти любимое дело и много зарабатывать»\, 26.09.2009\, 
END:VEVENT
BEGIN:VEVENT
DTSTAMP;VALUE=DATE-TIME:20250302T010354Z
DTSTART;VALUE=DATE-TIME:20090927T060000Z
DTEND;VALUE=DATE-TIME:20090927T060000Z
UID:http://hotstudy.ru/v4/node/113
URL;VALUE=URI:http://hotstudy.ru/v4/node/113
SUMMARY:Занятие по тренингу «Карьера\: как найти перспективную компанию и выгодно устроиться туда на работу»\, 27.09.2009\, 
END:VEVENT
END:VCALENDAR
