BEGIN:VCALENDAR
VERSION:2.0
METHOD:PUBLISH
X-WR-CALNAME:Магазин горящих тренингов |  Октябрь 12 2009- Ноябрь 11 2009
PRODID:-//strange bird labs//Drupal iCal API//EN
BEGIN:VEVENT
DTSTAMP;VALUE=DATE-TIME:20250213T143748Z
DTSTART;VALUE=DATE-TIME:20091024T060000Z
DTEND;VALUE=DATE-TIME:20091024T060000Z
UID:http://hotstudy.ru/v4/node/115
URL;VALUE=URI:http://hotstudy.ru/v4/node/115
SUMMARY:Занятие по тренингу «Как начать свой бизнес»\, 24.10.2009\, 
END:VEVENT
END:VCALENDAR
